BEGIN:VCALENDAR
VERSION:2.0
PRODID:-//Unicoi State Park &amp; Lodge - Helen, GA - ECPv6.15.17.1//NONSGML v1.0//EN
CALSCALE:GREGORIAN
METHOD:PUBLISH
X-WR-CALNAME:Unicoi State Park &amp; Lodge - Helen, GA
X-ORIGINAL-URL:https://unicoilodge.com
X-WR-CALDESC:Events for Unicoi State Park &amp; Lodge - Helen, GA
REFRESH-INTERVAL;VALUE=DURATION:PT1H
X-Robots-Tag:noindex
X-PUBLISHED-TTL:PT1H
BEGIN:VTIMEZONE
TZID:America/New_York
BEGIN:DAYLIGHT
TZOFFSETFROM:-0500
TZOFFSETTO:-0400
TZNAME:EDT
DTSTART:20250309T070000
END:DAYLIGHT
BEGIN:STANDARD
TZOFFSETFROM:-0400
TZOFFSETTO:-0500
TZNAME:EST
DTSTART:20251102T060000
END:STANDARD
BEGIN:DAYLIGHT
TZOFFSETFROM:-0500
TZOFFSETTO:-0400
TZNAME:EDT
DTSTART:20260308T070000
END:DAYLIGHT
BEGIN:STANDARD
TZOFFSETFROM:-0400
TZOFFSETTO:-0500
TZNAME:EST
DTSTART:20261101T060000
END:STANDARD
BEGIN:DAYLIGHT
TZOFFSETFROM:-0500
TZOFFSETTO:-0400
TZNAME:EDT
DTSTART:20270314T070000
END:DAYLIGHT
BEGIN:STANDARD
TZOFFSETFROM:-0400
TZOFFSETTO:-0500
TZNAME:EST
DTSTART:20271107T060000
END:STANDARD
END:VTIMEZONE
BEGIN:VEVENT
DTSTART;TZID=America/New_York:20260501T194500
DTEND;TZID=America/New_York:20260501T194500
DTSTAMP:20260421T162334
CREATED:20260421T160414Z
LAST-MODIFIED:20260421T160414Z
UID:10001121-1777664700-1777664700@unicoilodge.com
SUMMARY:State Park After Dark
DESCRIPTION:Explore Unicoi in a different light\, that light being the light of the moon. Join our staff for a fun unique night hike through our park. Flashlights provided. Weather Dependent.
URL:https://unicoilodge.com/event/state-park-after-dark-2/2026-05-01/
LOCATION:Visitor Center\, 1788 Highway 356\, Helen\, GA\, 30545\, United States
END:VEVENT
BEGIN:VEVENT
DTSTART;TZID=America/New_York:20260515T194500
DTEND;TZID=America/New_York:20260515T194500
DTSTAMP:20260421T162334
CREATED:20260421T160414Z
LAST-MODIFIED:20260421T160414Z
UID:10001122-1778874300-1778874300@unicoilodge.com
SUMMARY:State Park After Dark
DESCRIPTION:Explore Unicoi in a different light\, that light being the light of the moon. Join our staff for a fun unique night hike through our park. Flashlights provided. Weather Dependent.
URL:https://unicoilodge.com/event/state-park-after-dark-2/2026-05-15/
LOCATION:Visitor Center\, 1788 Highway 356\, Helen\, GA\, 30545\, United States
END:VEVENT
END:VCALENDAR