BEGIN:VCALENDAR
VERSION:2.0
PRODID:-//Unicoi State Park &amp; Lodge - Helen, GA - ECPv6.15.17.1//NONSGML v1.0//EN
CALSCALE:GREGORIAN
METHOD:PUBLISH
X-ORIGINAL-URL:https://unicoilodge.com
X-WR-CALDESC:Events for Unicoi State Park &amp; Lodge - Helen, GA
REFRESH-INTERVAL;VALUE=DURATION:PT1H
X-Robots-Tag:noindex
X-PUBLISHED-TTL:PT1H
BEGIN:VTIMEZONE
TZID:America/New_York
BEGIN:DAYLIGHT
TZOFFSETFROM:-0500
TZOFFSETTO:-0400
TZNAME:EDT
DTSTART:20240310T070000
END:DAYLIGHT
BEGIN:STANDARD
TZOFFSETFROM:-0400
TZOFFSETTO:-0500
TZNAME:EST
DTSTART:20241103T060000
END:STANDARD
BEGIN:DAYLIGHT
TZOFFSETFROM:-0500
TZOFFSETTO:-0400
TZNAME:EDT
DTSTART:20250309T070000
END:DAYLIGHT
BEGIN:STANDARD
TZOFFSETFROM:-0400
TZOFFSETTO:-0500
TZNAME:EST
DTSTART:20251102T060000
END:STANDARD
BEGIN:DAYLIGHT
TZOFFSETFROM:-0500
TZOFFSETTO:-0400
TZNAME:EDT
DTSTART:20260308T070000
END:DAYLIGHT
BEGIN:STANDARD
TZOFFSETFROM:-0400
TZOFFSETTO:-0500
TZNAME:EST
DTSTART:20261101T060000
END:STANDARD
END:VTIMEZONE
BEGIN:VEVENT
DTSTART;TZID=America/New_York:20250526T113000
DTEND;TZID=America/New_York:20250526T143000
DTSTAMP:20260422T025504
CREATED:20250423T192912Z
LAST-MODIFIED:20250423T193532Z
UID:10000807-1748259000-1748269800@unicoilodge.com
SUMMARY:Memorial Day All You Can Eat Buffet Extravaganza
DESCRIPTION:Join us on Monday\, May 26\, 2025 from 11:30am – 2:30pm for a Memorial Day All-You-Can-Eat Buffet Extravaganza! Reserve your spot by calling 706-878-2201 or reserve a table online at https://reservations.shift4payments.com/#/0246a482-ef50-4792-a47a-f138bc750b45.
URL:https://unicoilodge.com/event/memorial-day-all-you-can-eat-buffet-extravaganza/
LOCATION:Unicoi Restaurant\, 1788 Highway 356\, Helen\, GA\, 30545\, United States
END:VEVENT
BEGIN:VEVENT
DTSTART;TZID=America/New_York:20250511T113000
DTEND;TZID=America/New_York:20250511T133000
DTSTAMP:20260422T025504
CREATED:20250423T192358Z
LAST-MODIFIED:20250423T193555Z
UID:10000805-1746963000-1746970200@unicoilodge.com
SUMMARY:Mother's Day Brunch
DESCRIPTION:Join us for a Mother’s Day Brunch on Sunday\, May 11\, 2025 from 11:30am – 1:30pm. Seating is limited. Please RSVP by calling 706-878-2201 or make a reservation online at https://reservations.shift4payments.com/#/0246a482-ef50-4792-a47a-f138bc750b45.
URL:https://unicoilodge.com/event/mothers-day-brunch/
LOCATION:Unicoi Restaurant\, 1788 Highway 356\, Helen\, GA\, 30545\, United States
END:VEVENT
BEGIN:VEVENT
DTSTART;TZID=America/New_York:20250505T160000
DTEND;TZID=America/New_York:20250505T210000
DTSTAMP:20260422T025504
CREATED:20250423T192633Z
LAST-MODIFIED:20250423T192633Z
UID:10000806-1746460800-1746478800@unicoilodge.com
SUMMARY:Cinco de Mayo Fiesta
DESCRIPTION:Join us for a Cinco de Mayo Fiesta on Monday\, May 5\, 2025 from 4pm – 9pm. Enjoy 4 tacos for only $15.99 and $5 Margaritas!
URL:https://unicoilodge.com/event/cinco-de-mayo-fiesta/
LOCATION:Unicoi Restaurant\, 1788 Highway 356\, Helen\, GA\, 30545\, United States
END:VEVENT
BEGIN:VEVENT
DTSTART;TZID=America/New_York:20250420T110000
DTEND;TZID=America/New_York:20250420T160000
DTSTAMP:20260422T025504
CREATED:20250404T194846Z
LAST-MODIFIED:20250404T194846Z
UID:10000804-1745146800-1745164800@unicoilodge.com
SUMMARY:Easter Specials in Restaurant
DESCRIPTION:Easter Sunday Specials! Join us in the restaurant at Unicoi Lodge and enjoy our Easter Sunday Specials. This special menu is only available on Sunday\, April 20\, 2025 from 11am – 4pm and is $35++ per person. Check out our specials online using the button below.
URL:https://unicoilodge.com/event/easter-specials-in-restaurant/
LOCATION:Unicoi Restaurant\, 1788 Highway 356\, Helen\, GA\, 30545\, United States
END:VEVENT
END:VCALENDAR